BEGIN:VCALENDAR
VERSION:2.0
PRODID:-//GreenBuzz - ECPv6.15.20//NONSGML v1.0//EN
CALSCALE:GREGORIAN
METHOD:PUBLISH
X-WR-CALNAME:GreenBuzz
X-ORIGINAL-URL:https://greenbuzz.global
X-WR-CALDESC:Events for GreenBuzz
REFRESH-INTERVAL;VALUE=DURATION:PT1H
X-Robots-Tag:noindex
X-PUBLISHED-TTL:PT1H
BEGIN:VTIMEZONE
TZID:Europe/Zurich
BEGIN:DAYLIGHT
TZOFFSETFROM:+0100
TZOFFSETTO:+0200
TZNAME:CEST
DTSTART:20200329T010000
END:DAYLIGHT
BEGIN:STANDARD
TZOFFSETFROM:+0200
TZOFFSETTO:+0100
TZNAME:CET
DTSTART:20201025T010000
END:STANDARD
BEGIN:DAYLIGHT
TZOFFSETFROM:+0100
TZOFFSETTO:+0200
TZNAME:CEST
DTSTART:20210328T010000
END:DAYLIGHT
BEGIN:STANDARD
TZOFFSETFROM:+0200
TZOFFSETTO:+0100
TZNAME:CET
DTSTART:20211031T010000
END:STANDARD
BEGIN:DAYLIGHT
TZOFFSETFROM:+0100
TZOFFSETTO:+0200
TZNAME:CEST
DTSTART:20220327T010000
END:DAYLIGHT
BEGIN:STANDARD
TZOFFSETFROM:+0200
TZOFFSETTO:+0100
TZNAME:CET
DTSTART:20221030T010000
END:STANDARD
END:VTIMEZONE
BEGIN:VEVENT
DTSTART;TZID=Europe/Zurich:20211104T180000
DTEND;TZID=Europe/Zurich:20211104T200000
DTSTAMP:20260426T014444
CREATED:20230922T181623Z
LAST-MODIFIED:20231023T141052Z
UID:10000058-1636048800-1636056000@greenbuzz.global
SUMMARY:Informal Drinks - Carbon Capture and Storage (CCS)
DESCRIPTION:Carbon capture and storage (CCS) refers to a range of technologies that combat climate change by reducing the emission of carbon dioxide (CO2). The idea behind CCS is to capture the CO2 combustion of fossil fuels before it escapes into the atmosphere\, transporting it\, and eventually storing it. \nNew questions arise: What should/ will happen to the captured CO2? Can such technologies create a false sense of security in some people\, a deceptive way out of impending behavioral changes? Are CCS technologies facilitating greenwashing? \nJoin us for these Informal Drinks on November 4th to discuss these and more questions relating to carbon capture and storage technologies\, the opportunities connected to them but also their limitations. \nAt this event\, you will hear a short input by Liesbeth Deddens\, Product Marketing Manager at Climeworks to give you some food for thought. Afterwards\, you are invited to simply mingle and have a drink with us and the GreenBuzz community.
URL:https://greenbuzz.global/event/informal-drinks-carbon-capture-and-storage-ccs/
LOCATION:Bistro Riffraff\, Neugasse 63\, Zurich\, 8005
CATEGORIES:Emissions Reduction & Net Zero Roadmaps,Technology
ATTACH;FMTTYPE=image/jpeg:https://greenbuzz.global/wp-content/uploads/2023/09/6c458b3b3db909932d75ab856d20ca05-1.jpg
END:VEVENT
END:VCALENDAR