BEGIN:VCALENDAR
VERSION:2.0
PRODID:-//GreenBuzz - ECPv6.15.20//NONSGML v1.0//EN
CALSCALE:GREGORIAN
METHOD:PUBLISH
X-ORIGINAL-URL:https://greenbuzz.global
X-WR-CALDESC:Events for GreenBuzz
REFRESH-INTERVAL;VALUE=DURATION:PT1H
X-Robots-Tag:noindex
X-PUBLISHED-TTL:PT1H
BEGIN:VTIMEZONE
TZID:Europe/Zurich
BEGIN:DAYLIGHT
TZOFFSETFROM:+0100
TZOFFSETTO:+0200
TZNAME:CEST
DTSTART:20240331T010000
END:DAYLIGHT
BEGIN:STANDARD
TZOFFSETFROM:+0200
TZOFFSETTO:+0100
TZNAME:CET
DTSTART:20241027T010000
END:STANDARD
BEGIN:DAYLIGHT
TZOFFSETFROM:+0100
TZOFFSETTO:+0200
TZNAME:CEST
DTSTART:20250330T010000
END:DAYLIGHT
BEGIN:STANDARD
TZOFFSETFROM:+0200
TZOFFSETTO:+0100
TZNAME:CET
DTSTART:20251026T010000
END:STANDARD
BEGIN:DAYLIGHT
TZOFFSETFROM:+0100
TZOFFSETTO:+0200
TZNAME:CEST
DTSTART:20260329T010000
END:DAYLIGHT
BEGIN:STANDARD
TZOFFSETFROM:+0200
TZOFFSETTO:+0100
TZNAME:CET
DTSTART:20261025T010000
END:STANDARD
END:VTIMEZONE
BEGIN:VEVENT
DTSTART;TZID=Europe/Zurich:20251209T121500
DTEND;TZID=Europe/Zurich:20251209T134500
DTSTAMP:20260419T142828
CREATED:20260227T104104Z
LAST-MODIFIED:20260227T111229Z
UID:10000137-1765282500-1765287900@greenbuzz.global
SUMMARY:Sustainability Managers Lunch
DESCRIPTION:As business transformation and regulatory developments continue to accelerate\, we brought Sustainability Managers together to exchange perspectives and navigate a rapidly evolving corporate and reporting landscape. \nIn collaboration with the University of St.Gallen (Competence Center for Social Innovation)\, this event created a space for professionals across industries to reflect on shared challenges and opportunities. \nOver lunch\, participants engaged in peer-to-peer exchange\, explored reporting practices\, discussed industry trends\, and connected with HSG sustainability researchers to tap into practical expertise and academic insights. \nThe informal setting fostered open dialogue\, collaboration\, and knowledge-sharing across sectors\, strengthening collective efforts toward greater impact. \nThank you to everyone who joined and contributed to the rich discussions and cross-industry exchange.
URL:https://greenbuzz.global/event/sustainability-managers-lunch-2/
LOCATION:BRERA\, Kanzleistrasse 136\, Zurich\, Switzerland
ATTACH;FMTTYPE=image/png:https://greenbuzz.global/wp-content/uploads/Sustainability-Managers-Lunch.png
END:VEVENT
END:VCALENDAR