BEGIN:VCALENDAR
VERSION:2.0
PRODID:-//GreenBuzz - ECPv6.15.20//NONSGML v1.0//EN
CALSCALE:GREGORIAN
METHOD:PUBLISH
X-ORIGINAL-URL:https://greenbuzz.global
X-WR-CALDESC:Events for GreenBuzz
REFRESH-INTERVAL;VALUE=DURATION:PT1H
X-Robots-Tag:noindex
X-PUBLISHED-TTL:PT1H
BEGIN:VTIMEZONE
TZID:Europe/Zurich
BEGIN:DAYLIGHT
TZOFFSETFROM:+0100
TZOFFSETTO:+0200
TZNAME:CEST
DTSTART:20240331T010000
END:DAYLIGHT
BEGIN:STANDARD
TZOFFSETFROM:+0200
TZOFFSETTO:+0100
TZNAME:CET
DTSTART:20241027T010000
END:STANDARD
BEGIN:DAYLIGHT
TZOFFSETFROM:+0100
TZOFFSETTO:+0200
TZNAME:CEST
DTSTART:20250330T010000
END:DAYLIGHT
BEGIN:STANDARD
TZOFFSETFROM:+0200
TZOFFSETTO:+0100
TZNAME:CET
DTSTART:20251026T010000
END:STANDARD
BEGIN:DAYLIGHT
TZOFFSETFROM:+0100
TZOFFSETTO:+0200
TZNAME:CEST
DTSTART:20260329T010000
END:DAYLIGHT
BEGIN:STANDARD
TZOFFSETFROM:+0200
TZOFFSETTO:+0100
TZNAME:CET
DTSTART:20261025T010000
END:STANDARD
END:VTIMEZONE
BEGIN:VEVENT
DTSTART;TZID=Europe/Zurich:20251105T133000
DTEND;TZID=Europe/Zurich:20251105T213000
DTSTAMP:20260419T155753
CREATED:20251127T142338Z
LAST-MODIFIED:20251127T142338Z
UID:10000132-1762349400-1762378200@greenbuzz.global
SUMMARY:Data With Purpose
DESCRIPTION:This was the first event of Climate Week Zurich. Together with leaders from the digital\, sustainability\, and policy sectors\, we’ll explore how data can drive climate action and system transformation. \nFind out more here​ regarding the wide-reaching Vision for the first Climate Week Zurich in May 2026. \nIn today’s world\, data underpins every industry. When used with purpose\, it has the potential to accelerate sustainable progress\, mitigate climate risks\, and build a more resilient future. This event shines a light on cutting-edge innovations and solutions harnessing the power of data for good. \nOn one hand\, the data industry itself must evolve – optimizing efficiency in data centers\, integrating renewables\, and decarbonizing digital services. At the same time\, big data offers immense potential for climate action\, from urban planning and geo-observation\, to predictive maintenance and sustainable agriculture\, and more. \n\n\nThis was an afternoon & evening of keynotes\, panels\, and interactive discussions\, where cross-industry international experts will share the latest advancements and insights into data-driven sustainability. \nKey topics: \n\nData & Technology\nData & CDR\nData\, Nature\, & Sustainable Finance\n\nKey questions we explored: \n\nWhat role does big data play in climate adaptation and resilience?\nHow can AI and predictive analytics drive more effective sustainability strategies?\nWhat are the challenges and considerations in using big data for climate solutions?\nHow can businesses and policymakers collaborate to unlock the full potential of data for sustainability?
URL:https://greenbuzz.global/event/data-with-purpose/
LOCATION:Google Zurich\, Switzerland
ATTACH;FMTTYPE=image/jpeg:https://greenbuzz.global/wp-content/uploads/Event-Visual-28.jpg
END:VEVENT
BEGIN:VEVENT
DTSTART;TZID=Europe/Zurich:20251111T133000
DTEND;TZID=Europe/Zurich:20251111T213000
DTSTAMP:20260419T155753
CREATED:20251127T142526Z
LAST-MODIFIED:20251127T142526Z
UID:10000133-1762867800-1762896600@greenbuzz.global
SUMMARY:From Crisis to Resilience: Financial Strategies for Sustainable Economic Empowerment
DESCRIPTION:Traditional aid programmes often fall short in addressing the long-term economic challenges faced by vulnerable communities. How can we move beyond short-term relief to financial strategies that empower individuals and foster lasting economic stability? \nGreenBuzz\, in collaboration with the International Committee of the Red Cross (ICRC) and responsAbility\, brought together experts to discuss financial approaches that enhance resilience and self-sufficiency and foster long-term economic security. \nThis event examined how the private sector and the development and humanitarian sector can support both crisis preparedness and long-term economic empowerment. By bridging gaps and leveraging the comparative strengths of both worlds\, we can create sustainable opportunities that strengthen local economies and reduce dependency on external support. \nWhy This Matters \nMillions of people remain financially vulnerable\, while traditional funding structures often prioritize short-term needs over long-term solutions. At the same time\, economic\, environmental\, and geopolitical crises are becoming more frequent and prolonged\, putting additional pressure on already weak financial systems. \nBy shifting the focus to inclusive financial models\, risk mitigation\, and local investment\, we can enable communities to take control of their financial futures. The financial sector\, development organizations\, and investors have a unique opportunity to reshape how capital flows into underserved economies\, fostering self-sustaining and resilient communities. \n\n\nKey Discussion Areas \n\nPathways to Economic Self-Sufficiency – How can inclusive financial tools drive long-term economic stability?\nDisaster Risk Financing & Climate Resilience – How can financial instruments help communities prepare for and recover from climate-related shocks?\nInvesting in Local Economies – What role can private investment and innovative financial models play in empowering local businesses and entrepreneurs?\nShifting the Financial Paradigm – How can we move from donor-dependent models to scalable\, locally led financial systems that foster the long-term economic security of vulnerable populations?
URL:https://greenbuzz.global/event/from-crisis-to-resilience/
LOCATION:Kulturpark\, Pfingstweidstrasse 16\,\, Zurich\, 8005\, Switzerland
ATTACH;FMTTYPE=image/jpeg:https://greenbuzz.global/wp-content/uploads/Event-Visual-29.jpg
END:VEVENT
BEGIN:VEVENT
DTSTART;TZID=Europe/Zurich:20251119T163000
DTEND;TZID=Europe/Zurich:20251119T213000
DTSTAMP:20260419T155753
CREATED:20251127T142754Z
LAST-MODIFIED:20251127T142754Z
UID:10000134-1763569800-1763587800@greenbuzz.global
SUMMARY:Sustainable Business Summit 2025
DESCRIPTION:This 5th edition of the Sustainable Business Summit (SBS) united forward-thinking leaders to shape the future of business. Through high-impact keynotes\, expert panels\, interactive sessions\, and premium networking\, we explored the latest in resilient business models\, sustainable finance\, and innovation. We learned from top British and Swiss voices driving change\, and walked away with fresh strategies to future-proof your organisation and stay ahead in a shifting world. \nImpressive keynotes including: General Sir Gordon Messenger (The King’s Foundation​)\, Dame Inga Beale (former CEO of the Lloyd’s of London​)\, Daniel Dubas (Switzerland’s 2030 Agenda​)\, Richard Payne (Afry​)\, Marion Leslie (SIX​)\, and many more​. \n\n\nBreakout Sessions by: \n\nAfry (From Risk to Resilience: Building Business Continuity in a Changing Climate)\nIKEA (The Allen Key to Sustainability Strategy and Growth)\nSiemens (Chances and Hurdles for Cost-Competitive Sustainable Infrastructure)\nSouth Pole (Insetting: The Pioneer’s Playbook)\n\nFeatured: \n\nReal case‑studies & cross‑industry stories from top decision‑makers\, not just theory.\nBreakout sessions & panels\, plentiful networking: connect with peers who are ahead of the curve. Be the innovator they talk about.\nLearn from successful case studies and cross-industry international experts.\nEngage in cross-sectoral network building with like-minded and motivated professionals.\nHosted by GreenBuzz & BSCC: leveraging the best of Switzerland & the UK.
URL:https://greenbuzz.global/event/sustainable-business-summit-2025/
LOCATION:SIX ConventionPoint\, Pfingstweidstrasse 110\, Zürich\, 8005\, Switzerland
ATTACH;FMTTYPE=image/jpeg:https://greenbuzz.global/wp-content/uploads/Event-Visual-30.jpg
END:VEVENT
BEGIN:VEVENT
DTSTART;TZID=Europe/Zurich:20251125T183000
DTEND;TZID=Europe/Zurich:20251125T213000
DTSTAMP:20260419T155753
CREATED:20251127T142955Z
LAST-MODIFIED:20251127T142955Z
UID:10000135-1764095400-1764106200@greenbuzz.global
SUMMARY:New Climeworks DAC Innovation Center: A Sneak Peek
DESCRIPTION:Climeworks and Greenbuzz collaborated to organize an exclusive “sneak peek” visit to Climeworks’ new DAC Innovation Center (official inauguration n December). \nThis was an evening event with a difference\, bringing together Zurich’s leading sustainability community for a visit to the Climeworks DAC Innovation Center and CDR Solutions Experience. An immersive introduction to the key carbon removal solutions today\, and a Q&A about Climeworks’ current status quo. \n\n\nAbout Climeworks: Founded in 2009\, Climeworks is a Swiss company that specializes in developing\, building\, and operating Direct Air Capture (DAC) plants that permanently remove CO₂ from the air. \nIn addition to its DAC-focused carbon removal service\, Climeworks offers tailored portfolios of high-quality\, nature-based\, and engineered carbon removal solutions.
URL:https://greenbuzz.global/event/new-climeworks-dac-innovation-center-a-sneak-peek/
LOCATION:Climeworks
ATTACH;FMTTYPE=image/jpeg:https://greenbuzz.global/wp-content/uploads/Event-Visual-31.jpg
END:VEVENT
BEGIN:VEVENT
DTSTART;TZID=Europe/Zurich:20251126T183000
DTEND;TZID=Europe/Zurich:20251126T213000
DTSTAMP:20260419T155753
CREATED:20251127T143143Z
LAST-MODIFIED:20251127T143143Z
UID:10000136-1764181800-1764192600@greenbuzz.global
SUMMARY:Book Reading: Science in Resistance with Fernando Racimo (part of Films For Future)
DESCRIPTION:Around the world\, scientists are engaging in climate justice and species protection beyond their labs and academic positions. In April 2022\, hundreds of them in 30 countries blocked government buildings\, glued themselves to streets\, and chained themselves to the fences in front of the White House. \nFernando Racimo\, evolutionary researcher and professor at the University of Copenhagen\, collects first-hand accounts of scientists’ civil disobedience in his book. He combines personal stories with interviews from frontline activists\, offering insights into the world of research and resistance\, and examining the challenges academics faced after their uprising. \nThe author also reflects on his own role in the movement and the path that led him to become a scientist-activist. \nThe reading (in English) was a call to view science as an active force for societal change. \n\n\nAbout “films for future“: The film festival aims to raise public awareness of environmental and sustainability issues. Over 50 films\, including premieres and international productions\, were shown in November 2022 and 2023 as well as at around 160 events. The events take place in various cinemas and locations in Zurich\, some of them with panel discussions with speakers. A total of 13\,255 people attended the events in 2022 and 2023\, many of which were sold out.
URL:https://greenbuzz.global/event/science-in-resistance-with-fernando-racimo/
LOCATION:Rote Fabrik
ATTACH;FMTTYPE=image/jpeg:https://greenbuzz.global/wp-content/uploads/Event-Visual-32.jpg
END:VEVENT
END:VCALENDAR