BEGIN:VCALENDAR
VERSION:2.0
PRODID:-//GreenBuzz - ECPv6.15.20//NONSGML v1.0//EN
CALSCALE:GREGORIAN
METHOD:PUBLISH
X-ORIGINAL-URL:https://greenbuzz.global
X-WR-CALDESC:Events for GreenBuzz
REFRESH-INTERVAL;VALUE=DURATION:PT1H
X-Robots-Tag:noindex
X-PUBLISHED-TTL:PT1H
BEGIN:VTIMEZONE
TZID:Europe/Zurich
BEGIN:DAYLIGHT
TZOFFSETFROM:+0100
TZOFFSETTO:+0200
TZNAME:CEST
DTSTART:20240331T010000
END:DAYLIGHT
BEGIN:STANDARD
TZOFFSETFROM:+0200
TZOFFSETTO:+0100
TZNAME:CET
DTSTART:20241027T010000
END:STANDARD
BEGIN:DAYLIGHT
TZOFFSETFROM:+0100
TZOFFSETTO:+0200
TZNAME:CEST
DTSTART:20250330T010000
END:DAYLIGHT
BEGIN:STANDARD
TZOFFSETFROM:+0200
TZOFFSETTO:+0100
TZNAME:CET
DTSTART:20251026T010000
END:STANDARD
BEGIN:DAYLIGHT
TZOFFSETFROM:+0100
TZOFFSETTO:+0200
TZNAME:CEST
DTSTART:20260329T010000
END:DAYLIGHT
BEGIN:STANDARD
TZOFFSETFROM:+0200
TZOFFSETTO:+0100
TZNAME:CET
DTSTART:20261025T010000
END:STANDARD
END:VTIMEZONE
BEGIN:VEVENT
DTSTART;TZID=Europe/Zurich:20251002T180000
DTEND;TZID=Europe/Zurich:20251002T213000
DTSTAMP:20260419T172739
CREATED:20251127T114750Z
LAST-MODIFIED:20251127T114750Z
UID:10000129-1759428000-1759440600@greenbuzz.global
SUMMARY:Innovating for Impact: Sustainability in MedTech
DESCRIPTION:The European Union’s Green Deal and related sustainability regulations aim to drive industries toward environmental responsibility. However\, the medical technology (MedTech) sector has received exemptions from several mandates\, including the Packaging and Packaging Waste Regulation\, which excludes medical devices until January 1\, 2035. \nThis event brought together medical industry engineers\, healthcare providers\, policymakers\, and sustainability experts to explore the evolving role of sustainability in MedTech. As the health industry faces growing pressure to reduce its environmental impact\, we assessed its readiness to embrace sustainability while upholding patient safety and innovation. How can the sector integrate eco-friendly practices without compromising care quality? \n\n\nWith an assembled panel of experts\, we looked at: \n\nActionable Strategies & Best Practices – Learn from experts and industry leaders about practical steps MedTech companies can take to embed sustainability into their operations.\nMotivations for Sustainability in MedTech – Explore the key drivers for sustainability in MedTech\, including investor expectations\, patient demand\, and corporate responsibility.\nBalancing Health & Sustainability – Discuss whether the health industry is ready to integrate sustainability without compromising patient care and innovation.\nUnderstanding Regulatory Gaps & Challenges – Gain insights into the latest European sustainability regulations\, why MedTech is exempt\, and what this means for the industry.
URL:https://greenbuzz.global/event/innovating-for-impact-sustainability-in-medtech/
LOCATION:Helbling\, Hohlstrasse 614\, 8048\, Zürich\, Switzerland
ATTACH;FMTTYPE=image/jpeg:https://greenbuzz.global/wp-content/uploads/Event-Visual-24.jpg
END:VEVENT
BEGIN:VEVENT
DTSTART;TZID=Europe/Zurich:20251015T180000
DTEND;TZID=Europe/Zurich:20251015T213000
DTSTAMP:20260419T172739
CREATED:20251127T141920Z
LAST-MODIFIED:20251127T141920Z
UID:10000130-1760551200-1760563800@greenbuzz.global
SUMMARY:Afrotopia? Visions of a Sustainable Future
DESCRIPTION:By 2050\, Africa is projected to be home to 13 of the world’s 20 largest cities​ and will have the youngest population globally. This demographic and urban growth offers not just challenges\, but enormous potential — especially if the continent can chart its own sustainable development path. \nInstead of repeating old models of development rooted in dependence and extraction\, a new vision is emerging — one grounded in homegrown innovation\, sustainable business\, and local ownership. Africa has the opportunity to leapfrog fossil-fuel dependency and embrace climate-smart technologies\, circular solutions\, and resilient infrastructure — on its own terms. \n\n\nThe concept of Afrotopia put forward by Felwine Sarr​ challenges outdated narratives. \nThrough keynotes\, panel discussions\, and project showcases\, we explored the shift: \n\nFrom deficit to potential\nFrom aid to investment\nFrom imposed solutions to self-determined futures\n\nWe heard from on-the-ground innovators\, Swiss-Africa partnerships\, and emerging market investors who are co-creating Africa’s sustainable future. The future is being written now\, and it demands a new narrative.
URL:https://greenbuzz.global/event/afrotopia-visions-of-a-sustainable-future/
LOCATION:Kulturpark\, Pfingstweidstrasse 16\,\, Zurich\, 8005\, Switzerland
ATTACH;FMTTYPE=image/jpeg:https://greenbuzz.global/wp-content/uploads/Event-Visual-26.jpg
END:VEVENT
BEGIN:VEVENT
DTSTART;TZID=Europe/Zurich:20251022T180000
DTEND;TZID=Europe/Zurich:20251022T213000
DTSTAMP:20260419T172739
CREATED:20251127T142129Z
LAST-MODIFIED:20251127T142129Z
UID:10000131-1761156000-1761168600@greenbuzz.global
SUMMARY:Social Drinks with Women in Carbon
DESCRIPTION:We united the GreenBuzz and Women in Carbon communities for an autumn get-together! \nWith so much going on in the sustainability space\, this was a great chance to share thoughts and ideas in an informal setting with members of the community and the wider ecosystem of business changemakers. \nWe met up at the excellent and centrally located Grand Café Lochergut.
URL:https://greenbuzz.global/event/social-drinks-with-women-in-carbon/
LOCATION:Grand Cafe Lochergut
ATTACH;FMTTYPE=image/jpeg:https://greenbuzz.global/wp-content/uploads/Event-Visual-27.jpg
END:VEVENT
END:VCALENDAR