BEGIN:VCALENDAR
VERSION:2.0
PRODID:-//GreenBuzz - ECPv6.15.20//NONSGML v1.0//EN
CALSCALE:GREGORIAN
METHOD:PUBLISH
X-ORIGINAL-URL:https://greenbuzz.global
X-WR-CALDESC:Events for GreenBuzz
REFRESH-INTERVAL;VALUE=DURATION:PT1H
X-Robots-Tag:noindex
X-PUBLISHED-TTL:PT1H
BEGIN:VTIMEZONE
TZID:Europe/Zurich
BEGIN:DAYLIGHT
TZOFFSETFROM:+0100
TZOFFSETTO:+0200
TZNAME:CEST
DTSTART:20240331T010000
END:DAYLIGHT
BEGIN:STANDARD
TZOFFSETFROM:+0200
TZOFFSETTO:+0100
TZNAME:CET
DTSTART:20241027T010000
END:STANDARD
BEGIN:DAYLIGHT
TZOFFSETFROM:+0100
TZOFFSETTO:+0200
TZNAME:CEST
DTSTART:20250330T010000
END:DAYLIGHT
BEGIN:STANDARD
TZOFFSETFROM:+0200
TZOFFSETTO:+0100
TZNAME:CET
DTSTART:20251026T010000
END:STANDARD
BEGIN:DAYLIGHT
TZOFFSETFROM:+0100
TZOFFSETTO:+0200
TZNAME:CEST
DTSTART:20260329T010000
END:DAYLIGHT
BEGIN:STANDARD
TZOFFSETFROM:+0200
TZOFFSETTO:+0100
TZNAME:CET
DTSTART:20261025T010000
END:STANDARD
END:VTIMEZONE
BEGIN:VEVENT
DTSTART;TZID=Europe/Zurich:20250918T180000
DTEND;TZID=Europe/Zurich:20250918T213000
DTSTAMP:20260419T190751
CREATED:20251127T114352Z
LAST-MODIFIED:20251127T114352Z
UID:10000128-1758218400-1758231000@greenbuzz.global
SUMMARY:Unlocking Carbon Removals
DESCRIPTION:This high-impact discussion featured leading voices from South Pole\, NextGen and cross-sector pioneers as we explore the urgent need to scale carbon removal solutions. Together we unpacked how both nature-based and technological approaches can contribute to credible net-zero pathways and what’s still needed to bring them to scale. \nAcross panel discussions and interactive roundtables\, we discussed: \n\n\n\nClarify the roles of nature-based and technological carbon removal (CDR) in achieving global climate targets.\nHighlight real-world innovations and partnerships that are scaling up permanent CDR.\nExamine market signals\, corporate demand\, and policy mechanisms shaping the carbon removal landscape\nExplore the challenges of financing\, monitoring\, and verifying carbon removal at scale.\nFoster cross-sector collaboration between academia\, industry\, and finance to accelerate impact.
URL:https://greenbuzz.global/event/unlocking-carbon-removals/
LOCATION:Bluelion Incubator\, Josefstrasse 219\, Zürich\, 8005\, Switzerland
ATTACH;FMTTYPE=image/jpeg:https://greenbuzz.global/wp-content/uploads/Event-Visual-24.jpg
END:VEVENT
END:VCALENDAR