BEGIN:VCALENDAR
VERSION:2.0
PRODID:-//GreenBuzz - ECPv6.15.20//NONSGML v1.0//EN
CALSCALE:GREGORIAN
METHOD:PUBLISH
X-WR-CALNAME:GreenBuzz
X-ORIGINAL-URL:https://greenbuzz.global
X-WR-CALDESC:Events for GreenBuzz
REFRESH-INTERVAL;VALUE=DURATION:PT1H
X-Robots-Tag:noindex
X-PUBLISHED-TTL:PT1H
BEGIN:VTIMEZONE
TZID:Europe/Zurich
BEGIN:DAYLIGHT
TZOFFSETFROM:+0100
TZOFFSETTO:+0200
TZNAME:CEST
DTSTART:20240331T010000
END:DAYLIGHT
BEGIN:STANDARD
TZOFFSETFROM:+0200
TZOFFSETTO:+0100
TZNAME:CET
DTSTART:20241027T010000
END:STANDARD
BEGIN:DAYLIGHT
TZOFFSETFROM:+0100
TZOFFSETTO:+0200
TZNAME:CEST
DTSTART:20250330T010000
END:DAYLIGHT
BEGIN:STANDARD
TZOFFSETFROM:+0200
TZOFFSETTO:+0100
TZNAME:CET
DTSTART:20251026T010000
END:STANDARD
BEGIN:DAYLIGHT
TZOFFSETFROM:+0100
TZOFFSETTO:+0200
TZNAME:CEST
DTSTART:20260329T010000
END:DAYLIGHT
BEGIN:STANDARD
TZOFFSETFROM:+0200
TZOFFSETTO:+0100
TZNAME:CET
DTSTART:20261025T010000
END:STANDARD
END:VTIMEZONE
BEGIN:VEVENT
DTSTART;TZID=Europe/Zurich:20250612T180000
DTEND;TZID=Europe/Zurich:20250612T213000
DTSTAMP:20260419T231436
CREATED:20250814T124101Z
LAST-MODIFIED:20250814T124101Z
UID:10000123-1749751200-1749763800@greenbuzz.global
SUMMARY:Climate Justice & Corporate Leadership: Transforming Global Supply Chains
DESCRIPTION:As companies navigate increasing pressure to make their supply chains more sustainable\, one crucial element is often overlooked: climate justice. But what does this mean in a business context\, and why should companies care? \nSimply put\, climate justice is about ensuring that the burden and opportunities of the consequences of climate change are distributed fairly – especially between companies in the Global North and communities in the Global South\, where many supply chains begin. This event\, co-hosted by GreenBuzz\, öbu and WWF Switzerland\, explored how businesses can align their sustainability strategies with fairer\, more responsible supply chains – while also managing risks\, staying ahead of regulations\, and strengthening their market position. \nWe discussed key challenges\, such as: \n\nHow climate change disrupts supply chains and creates new financial risks.\nThe negative externalities of global supply chains—who is paying the price?\nHow companies can turn sustainability into an advantage instead of just a compliance issue.\n\n\n\nThrough real-world case studies from different industries\, such as food and manufacturing\, we highlighted companies already making progress and show how others can take practical steps to integrate climate justice into procurement\, legal\, and sustainability strategies\, in order to guarantee a liveable environment for all and for future generations
URL:https://greenbuzz.global/event/climate-justice-corporate-leadership-transforming-global-supply-chains/
LOCATION:Kulturpark\, Pfingstweidstrasse 16\,\, Zurich\, 8005\, Switzerland
ATTACH;FMTTYPE=image/jpeg:https://greenbuzz.global/wp-content/uploads/Event-Visual-11.jpg
END:VEVENT
BEGIN:VEVENT
DTSTART;TZID=Europe/Zurich:20250619T170000
DTEND;TZID=Europe/Zurich:20250619T213000
DTSTAMP:20260419T231436
CREATED:20250814T123212Z
LAST-MODIFIED:20250814T123212Z
UID:10000120-1750352400-1750368600@greenbuzz.global
SUMMARY:Circularity Summit 2025
DESCRIPTION:The Circular Economy is more than a response to environmental challenges—it’s a transformative vision for the future of business and society. By embracing new ways of designing business and society\, circularity addresses critical issues like material scarcity\, and resource depletion to avoid waste to landfill\, maximize use\, and create products that last long and can be used several times. \nSwitzerland (and Zurich) is positioning itself at the forefront of the circular transition. However\, challenges such as supply chain vulnerabilities\, evolving regulations\, and shifting societal expectations require collective action. The Circularity Summit 2025 in Zurich brought together thought leaders\, pioneering businesses\, and policymakers to explore how circular strategies can strengthen industries\, enhance resource efficiency\, and build a more sustainable future. \nWe examined the topic from three key perspectives: products\, business models\, and consumers: \n\nHow can companies redesign their business models to reduce waste and optimise resource use while remaining competitive?\nHow can product and service design prioritise durability\, repairability\, and recyclability?\nWhat policies or incentives effectively accelerate the adoption of circular economy principles?\nWhich industries stand to benefit most from circular practices\, and what challenges are unique to their sectors?\nHow can businesses and policymakers support consumers in adopting circular behaviors?\nWhat tools and metrics are needed to measure and communicate circularity’s impact?\n\n\n\nBreakout Sessions: \nCircular Products \nHow are you designing products that extend life cycles\, minimise waste\, and keep materials in continuous use? This session explored strategies for durability\, modularity\, and recyclability\, along with innovative end-of-life solutions that close material loops. \nCircular Business \nRethinking business models is essential to shifting from a linear to a circular economy\, but what strategies enable this transition? This discussion explored service-based approaches\, digital tools\, and reverse logistics that help businesses enhance resource efficiency\, unlock new value\, and build long-term resilience. \nConsumer Circularity \nConsumers play a crucial role in making circular systems work\, but how can businesses encourage and support more sustainable behaviours? This discussion explored how companies can design products\, software\, and solutions that actively enable their customers to participate in circularity. \nFocus of Panel Discussion: \nCreating a truly circular economy requires collaboration across industries\, from product design to business operations and consumer engagement. This panel brought together experts to discuss practical strategies\, challenges\, and opportunities for embedding circularity at every stage of the value chain\, ensuring materials remain in use and waste is minimized.
URL:https://greenbuzz.global/event/circularity-summit-2025/
LOCATION:Siemens Schweiz AG\, Theilerstrasse 1a\, Zug\, 6300\, Switzerland
ATTACH;FMTTYPE=image/jpeg:https://greenbuzz.global/wp-content/uploads/Event-Visual-8-1.jpg
END:VEVENT
BEGIN:VEVENT
DTSTART;TZID=Europe/Zurich:20250624T180000
DTEND;TZID=Europe/Zurich:20250624T213000
DTSTAMP:20260419T231436
CREATED:20250814T124601Z
LAST-MODIFIED:20250814T124601Z
UID:10000124-1750788000-1750800600@greenbuzz.global
SUMMARY:Climate Apéro / Summer Drinks
DESCRIPTION:Changemaker communities come together! GreenBuzz\, One Planet Lab\, and Impact Hub Zürich warmly welcomed you to join this extra-special Climate Apéro. \nWhether reconnecting with old contacts or expanding your network\, Cafe Auer with its wonderful yard played host to a summer evening of sharing\, exchanging\, and discussing the climate issues closest to your heart. \nMembers of GB/OPL/IH get free entry\, drinks & snacks. Cheers!
URL:https://greenbuzz.global/event/climate-apero-summer-drinks-2/
LOCATION:Cafe Auer\, Sihlquai 131\, Zurich\, 8005\, Switzerland
ATTACH;FMTTYPE=image/jpeg:https://greenbuzz.global/wp-content/uploads/Event-Visual-12.jpg
END:VEVENT
END:VCALENDAR