BEGIN:VCALENDAR
VERSION:2.0
PRODID:-//GreenBuzz - ECPv6.15.20//NONSGML v1.0//EN
CALSCALE:GREGORIAN
METHOD:PUBLISH
X-WR-CALNAME:GreenBuzz
X-ORIGINAL-URL:https://greenbuzz.global
X-WR-CALDESC:Events for GreenBuzz
REFRESH-INTERVAL;VALUE=DURATION:PT1H
X-Robots-Tag:noindex
X-PUBLISHED-TTL:PT1H
BEGIN:VTIMEZONE
TZID:Europe/Zurich
BEGIN:DAYLIGHT
TZOFFSETFROM:+0100
TZOFFSETTO:+0200
TZNAME:CEST
DTSTART:20240331T010000
END:DAYLIGHT
BEGIN:STANDARD
TZOFFSETFROM:+0200
TZOFFSETTO:+0100
TZNAME:CET
DTSTART:20241027T010000
END:STANDARD
BEGIN:DAYLIGHT
TZOFFSETFROM:+0100
TZOFFSETTO:+0200
TZNAME:CEST
DTSTART:20250330T010000
END:DAYLIGHT
BEGIN:STANDARD
TZOFFSETFROM:+0200
TZOFFSETTO:+0100
TZNAME:CET
DTSTART:20251026T010000
END:STANDARD
BEGIN:DAYLIGHT
TZOFFSETFROM:+0100
TZOFFSETTO:+0200
TZNAME:CEST
DTSTART:20260329T010000
END:DAYLIGHT
BEGIN:STANDARD
TZOFFSETFROM:+0200
TZOFFSETTO:+0100
TZNAME:CET
DTSTART:20261025T010000
END:STANDARD
END:VTIMEZONE
BEGIN:VEVENT
DTSTART;TZID=Europe/Zurich:20250226T180000
DTEND;TZID=Europe/Zurich:20250226T213000
DTSTAMP:20260419T152031
CREATED:20250403T121205Z
LAST-MODIFIED:20250403T121205Z
UID:10000117-1740592800-1740605400@greenbuzz.global
SUMMARY:Careers in Sustainability
DESCRIPTION:This was an opportunity to connect with like-minded individuals who’ve moved in their careers to make a meaningful impact. Across many breakout sessions on different topics\, participants heard valuable input\, exchange ideas\, and priceless guidance from sustainability professionals. \nAs sustainability becomes the new normal in business\, the definition of a sustainable job is itself widening. At the same time\, arming yourself with the skills required for achieving impact – within a company and out in the world – are more important than ever. \nAt this informative event with Swiss Climate\, we tackled questions including: \n\nWhat is important to consider when applying for a job in sustainability?\nWhat does a career in sustainability involve?\nWhat diverse opportunities exist in this field?\nWhat skills can I develop to contribute to sustainability initiatives in my current organization?\nHow can I advocate for and implement sustainable practices within my organization?
URL:https://greenbuzz.global/event/careers-in-sustainability-2025/
LOCATION:WWF Schweiz\, Hohlstrasse 110\, Zurich\, 8010\, Switzerland
ATTACH;FMTTYPE=image/jpeg:https://greenbuzz.global/wp-content/uploads/Event-Visual-18.jpg
END:VEVENT
END:VCALENDAR