BEGIN:VCALENDAR
VERSION:2.0
PRODID:-//GreenBuzz - ECPv6.15.20//NONSGML v1.0//EN
CALSCALE:GREGORIAN
METHOD:PUBLISH
X-WR-CALNAME:GreenBuzz
X-ORIGINAL-URL:https://greenbuzz.global
X-WR-CALDESC:Events for GreenBuzz
REFRESH-INTERVAL;VALUE=DURATION:PT1H
X-Robots-Tag:noindex
X-PUBLISHED-TTL:PT1H
BEGIN:VTIMEZONE
TZID:Europe/Zurich
BEGIN:DAYLIGHT
TZOFFSETFROM:+0100
TZOFFSETTO:+0200
TZNAME:CEST
DTSTART:20210328T010000
END:DAYLIGHT
BEGIN:STANDARD
TZOFFSETFROM:+0200
TZOFFSETTO:+0100
TZNAME:CET
DTSTART:20211031T010000
END:STANDARD
BEGIN:DAYLIGHT
TZOFFSETFROM:+0100
TZOFFSETTO:+0200
TZNAME:CEST
DTSTART:20220327T010000
END:DAYLIGHT
BEGIN:STANDARD
TZOFFSETFROM:+0200
TZOFFSETTO:+0100
TZNAME:CET
DTSTART:20221030T010000
END:STANDARD
BEGIN:DAYLIGHT
TZOFFSETFROM:+0100
TZOFFSETTO:+0200
TZNAME:CEST
DTSTART:20230326T010000
END:DAYLIGHT
BEGIN:STANDARD
TZOFFSETFROM:+0200
TZOFFSETTO:+0100
TZNAME:CET
DTSTART:20231029T010000
END:STANDARD
END:VTIMEZONE
BEGIN:VEVENT
DTSTART;TZID=Europe/Zurich:20220602T170000
DTEND;TZID=Europe/Zurich:20220602T200000
DTSTAMP:20260420T004435
CREATED:20230922T181044Z
LAST-MODIFIED:20231009T115826Z
UID:10000042-1654189200-1654200000@greenbuzz.global
SUMMARY:Members & Partners Event: Forests and Climate in Art
DESCRIPTION:We invite our partners and members to an exclusive GreenBuzz event to discuss the IPCC’s Sixth Assessment Report and the role of forests in climate mitigation through the medium of art! \nTogether\, we will explore the art displayed at the special exhibition ‘In the Forests’ at the Landesmuseum Zurich\, which tells of the forest’s history\, beauty\, biodiversity\, and importance to support human activities and wellbeing. Over drinks we will discuss the impressions won at the exhibition & their implications in connection to the 6th IPCC report on the mitigation of climate change\, which John Kerry has described as “a defining moment for our planet”. \nGreenBuzz supports all changemakers who act against the climate crisis and promote natural restoration by building a strong network and by growing & sharing knowledge. We offer this event to thank you for being part of the movement and are sure you will be inspired by the beauty and history of the forests that we must now preserve!
URL:https://greenbuzz.global/event/members-partners-event-forests-and-climate-in-art/
LOCATION:Landesmuseum Zürich Auditorium Willy G.S Hirzel\, 2 Museumstrasse\, Zürich\, ZH\, 8001\, Switzerland
ATTACH;FMTTYPE=image/jpeg:https://greenbuzz.global/wp-content/uploads/2023/09/7ef215a33fa47592dc09691637597777-1.jpg
END:VEVENT
BEGIN:VEVENT
DTSTART;TZID=Europe/Zurich:20220610T180000
DTEND;TZID=Europe/Zurich:20220610T210000
DTSTAMP:20260420T004435
CREATED:20230922T181028Z
LAST-MODIFIED:20231023T140712Z
UID:10000041-1654884000-1654894800@greenbuzz.global
SUMMARY:Thematic Event: Sustainable Business Travel
DESCRIPTION:How can business travel be more sustainable in a post-covid world? \nWhilst we see a rise in virtual meetings\, there is a huge appetite for humans to build business relationships in person and re-start regular business travel. \nSome ideas exist – fewer longer trips\, attaching holidays to business trips\, offsetting emissions. What more can be done? \nJoin GreenBuzz Zurich at Hyatt Regency Zurich Airport The Circle as we come together to discuss over drinks what the future will look like and how we can positively influence business travel. \nSome of the questions we will be considering are: \n\nThe lack of an industry-accepted metric & methodology for calculating the carbon footprint\, especially for hotels.\nHow to move from post-trip offsetting to pre-trip reduction education?\nHow should supplier sustainability be included in the travel procurement process?\n“Scope 3 Calculations” – How far down the supply chain should sustainability metrics be calculated?\nPersonalized travel – How new technology with suppliers can return personalized results (e.g. choosing not to have a meal on an overnight flight)?
URL:https://greenbuzz.global/event/thematic-event-sustainable-business-travel/
LOCATION:Hyatt Regency Zurich Airport The Circle\, The Circle 41\, Zürich\, ZH\, 8058\, Switzerland
CATEGORIES:Tourism, Travel & Mobility
ATTACH;FMTTYPE=image/jpeg:https://greenbuzz.global/wp-content/uploads/2023/09/ac7b90b51c17456917a364e2c39aa5fd-1.jpg
END:VEVENT
BEGIN:VEVENT
DTSTART;TZID=Europe/Zurich:20220616T180000
DTEND;TZID=Europe/Zurich:20220616T203000
DTSTAMP:20260420T004435
CREATED:20230922T181007Z
LAST-MODIFIED:20231023T140703Z
UID:10000040-1655402400-1655411400@greenbuzz.global
SUMMARY:Thematic Event: Sustainable Energy System - Who Will Lead the Way?
DESCRIPTION:Technical innovation\, massive business model change and societal adaptation are inevitable if we are to build a sustainable energy system. But how do we get there? What steps should we take? And who will lead the way? We dive into this topic and take an interdisciplinary approach with our event partner\, the Energy Science Center of ETH Zurich\, and our host\, Siemens. \nEnergy demands are evolving fast. Nations are moving to build more self-reliance on their energy systems. We have an increasing demand for electricity and at the same time\, we have aggressive goals to cut carbon emissions. Energy infrastructure projects will require long-term investments\, so finance and governments are key to the solutions. \nThe only way to tackle the complex problem we face is through an interdisciplinary approach. Cutting-edge research is being done\, but what can we learn? What support is required? \nAt this event\, we will hear expert inputs by three keynote speakers from academia\, business and the public sector. After these inputs\, we will have the exclusive opportunity to dive deep into the topic by learning from eight doctoral students researching the hurdles and working on specific solutions for a sustainable energy system. \nJoin us to discuss the following questions – moderated by Christian Schaffner – and to learn from the doctoral students who are immersed in these topics: \n\nHow can energy policy support the speed of technical innovation?\nHow can green energy models be economically favorable?\nWhat is the latest research on biofuels\, semiconductor efficiency\, managing hydropower dams\, carbon capture and storage\, the future of transport?\nWhat are government and societal roles around the storage and transport of nuclear waste?\n\nWe are happy to announce that this event is hosted by Siemens in their state of the art Swiss Headquarters in Zug. The Siemens Campus is a great example of the interplay between new technological solutions and the energy efficiency and sustainability they bring with them. \nSpeaker inputs by: \n\nKristina Orehounig\, Head of Urban Energy Systems Laboratory at EMPA\nKaja Hollstein\, Head of Operations Services at Swissgrid\nIlonka Zapke\, R&D Strategy in Technology & Innovation at Siemens\n\nModerated Poster-Session with PhD students on their research. Including: \n\nArnau Aliana\nManuel Belanche\nLinda Brodnicke\nSudesh Dahal\nSusanne Rhein\nKatrin Sievert\nBessie Noll\nDabwiso Sakala\nFei Wu\n\nThis event is partly funded by Zurich-Basel Plant Science Center. \nMarie Skłodowska-Curie Actions (MSCA)\, Co-funding of Regional\, National\, and International Programmes (COFUND).
URL:https://greenbuzz.global/event/thematic-event-sustainable-energy-system-who-will-lead-the-way/
LOCATION:Siemens\, Switzerland\, Theilerstrasse 1a\, Zug\, ZG\, 6300\, Switzerland
CATEGORIES:Energy Transition
ATTACH;FMTTYPE=image/jpeg:https://greenbuzz.global/wp-content/uploads/2023/09/c20926f9a96b73bae84e29fadc5b6588-1.jpg
END:VEVENT
END:VCALENDAR