BEGIN:VCALENDAR
VERSION:2.0
PRODID:-//GreenBuzz - ECPv6.15.20//NONSGML v1.0//EN
CALSCALE:GREGORIAN
METHOD:PUBLISH
X-ORIGINAL-URL:https://greenbuzz.global
X-WR-CALDESC:Events for GreenBuzz
REFRESH-INTERVAL;VALUE=DURATION:PT1H
X-Robots-Tag:noindex
X-PUBLISHED-TTL:PT1H
BEGIN:VTIMEZONE
TZID:Europe/Zurich
BEGIN:DAYLIGHT
TZOFFSETFROM:+0100
TZOFFSETTO:+0200
TZNAME:CEST
DTSTART:20210328T010000
END:DAYLIGHT
BEGIN:STANDARD
TZOFFSETFROM:+0200
TZOFFSETTO:+0100
TZNAME:CET
DTSTART:20211031T010000
END:STANDARD
BEGIN:DAYLIGHT
TZOFFSETFROM:+0100
TZOFFSETTO:+0200
TZNAME:CEST
DTSTART:20220327T010000
END:DAYLIGHT
BEGIN:STANDARD
TZOFFSETFROM:+0200
TZOFFSETTO:+0100
TZNAME:CET
DTSTART:20221030T010000
END:STANDARD
BEGIN:DAYLIGHT
TZOFFSETFROM:+0100
TZOFFSETTO:+0200
TZNAME:CEST
DTSTART:20230326T010000
END:DAYLIGHT
BEGIN:STANDARD
TZOFFSETFROM:+0200
TZOFFSETTO:+0100
TZNAME:CET
DTSTART:20231029T010000
END:STANDARD
END:VTIMEZONE
BEGIN:VEVENT
DTSTART;TZID=Europe/Zurich:20220303T180000
DTEND;TZID=Europe/Zurich:20220303T213000
DTSTAMP:20260420T053846
CREATED:20230922T181339Z
LAST-MODIFIED:20231009T114833Z
UID:10000050-1646330400-1646343000@greenbuzz.global
SUMMARY:SOLD OUT - Thematic Event: EU Taxonomy & Greenwashing
DESCRIPTION:“Green” investment products are on the surge\, and the trend is growing. As sustainable investing moves to the new normal\, we discuss how the EU taxonomy has provided the necessary framework to help investors evaluate the environmental impact of their investments. \nThe EU taxonomy is part of the EU Action Plan that includes a number of new sustainable finance regulations and seeks to flow capital to more sustainable businesses. It was introduced in June 2020 to drive ESG criteria into investment decisions. \n“If it works properly\, the EU taxonomy will help determine the sustainability of all activities and stop financial players falsely labeling unsustainable investments as climate-friendly. The taxonomy’s classification should inform public and private investment decisions\, and it is a new powerful tool to make the EU economy environmentally and socially sustainable.” – writes Sébastien Godinot\, Economist at the WWF European Policy Office\, in this article in March 2020. \nTherefore\, the desired effect is to protect both investors and companies against accusations of greenwashing and to provide a cohesive framework to assess investments and loans. So\, more than a year after the EU taxonomy has come to effect\, let’s ask: \n\nHas the EU taxonomy really helped tackle greenwashing in finance?\nWhat are the plans to fully incorporate all ESG measures?\nWhat has been the impact on reporting systems\, due diligence processes and investment strategies?\nHow has the Swiss financial system responded?\nHave we moved from good disclosure to channeling funds to more sustainable businesses?\nHave consumers benefited from the clarity?
URL:https://greenbuzz.global/event/sold-out-thematic-event-eu-taxonomy-greenwashing/
LOCATION:responsAbility\, Zollstrasse 17\, Zürich\, 8005\, Switzerland
ATTACH;FMTTYPE=image/jpeg:https://greenbuzz.global/wp-content/uploads/2023/09/167bef4e7d094f43c9ba3376b68bc759.jpg
END:VEVENT
BEGIN:VEVENT
DTSTART;TZID=Europe/Zurich:20220317T180000
DTEND;TZID=Europe/Zurich:20220317T210000
DTSTAMP:20260420T053846
CREATED:20230922T181253Z
LAST-MODIFIED:20231023T140906Z
UID:10000049-1647540000-1647550800@greenbuzz.global
SUMMARY:Informal Drinks - The Road to Carbon-Free Energy
DESCRIPTION:Join us for these Informal Drinks after work on March 17th to discuss how we can shift to carbon-free energy! Electrification is critical to decarbonise various sectors. However\, it is not enough anymore for a company to claim that they use 100% renewable energy as that does not necessarily equate to carbon-free energy. Each hour of energy consumption must be matched by an hour of carbon-free energy generation. \nWe are not on track to achieve Sustainable Development Goal 7 (SDG7)\, which demands access to affordable\, reliable\, sustainable and modern energy for all by 2030. The United Nations have set an ambitious goal with their 24/7 Carbon-Free Energy Compact and have put together a set of principles and actions that stakeholders across the energy ecosystem can commit to in order to drive systemic change. \nSo how do we embrace the rapidly developing technologies and move away from our reliance on fossil fuels? How do we use transition technologies such as nuclear and natural gas and how do we build the needed renewable energy infrastructure required? \nThis topic is very much in the media and public conscience but what is the latest research and how can industries and individuals work together to build the carbon-free future we all aim for. To achieve net-zero emissions across the global economy by 2050\, electricity must decarbonize even faster\, while becoming the core of a just and accessible energy system. \nAt this event\, you will hear from Christian Schaffner\, Executive Director\, Energy Science Center (ESC) ETH Zürich to give you some food for thought. Afterwards\, you are invited to simply mingle and have a drink with us and the GreenBuzz community.
URL:https://greenbuzz.global/event/informal-drinks-the-road-to-carbon-free-energy/
LOCATION:WWF Switzerland\, 110 Hohlstrasse\, Zurich\, Switzerland
CATEGORIES:Energy Transition
ATTACH;FMTTYPE=image/jpeg:https://greenbuzz.global/wp-content/uploads/2023/09/b48c69f41411a5ab695ea4d662d897d0-1.jpg
END:VEVENT
END:VCALENDAR