BEGIN:VCALENDAR
VERSION:2.0
PRODID:-//GreenBuzz - ECPv6.15.20//NONSGML v1.0//EN
CALSCALE:GREGORIAN
METHOD:PUBLISH
X-ORIGINAL-URL:https://greenbuzz.global
X-WR-CALDESC:Events for GreenBuzz
REFRESH-INTERVAL;VALUE=DURATION:PT1H
X-Robots-Tag:noindex
X-PUBLISHED-TTL:PT1H
BEGIN:VTIMEZONE
TZID:Europe/Zurich
BEGIN:DAYLIGHT
TZOFFSETFROM:+0100
TZOFFSETTO:+0200
TZNAME:CEST
DTSTART:20200329T010000
END:DAYLIGHT
BEGIN:STANDARD
TZOFFSETFROM:+0200
TZOFFSETTO:+0100
TZNAME:CET
DTSTART:20201025T010000
END:STANDARD
BEGIN:DAYLIGHT
TZOFFSETFROM:+0100
TZOFFSETTO:+0200
TZNAME:CEST
DTSTART:20210328T010000
END:DAYLIGHT
BEGIN:STANDARD
TZOFFSETFROM:+0200
TZOFFSETTO:+0100
TZNAME:CET
DTSTART:20211031T010000
END:STANDARD
BEGIN:DAYLIGHT
TZOFFSETFROM:+0100
TZOFFSETTO:+0200
TZNAME:CEST
DTSTART:20220327T010000
END:DAYLIGHT
BEGIN:STANDARD
TZOFFSETFROM:+0200
TZOFFSETTO:+0100
TZNAME:CET
DTSTART:20221030T010000
END:STANDARD
END:VTIMEZONE
BEGIN:VEVENT
DTSTART;TZID=Europe/Zurich:20211202T180000
DTEND;TZID=Europe/Zurich:20211202T213000
DTSTAMP:20260420T164529
CREATED:20230922T181501Z
LAST-MODIFIED:20231023T141004Z
UID:10000054-1638468000-1638480600@greenbuzz.global
SUMMARY:Thematic Event: Cryptocurrency & Sustainability - A Contradiction in Terms?
DESCRIPTION:Switzerland has been one of the leading players in the global adoption of tokenized digital assets and Distributed Ledger Technology (DLT). With people being able to use cryptocurrency to pay anything from a restaurant visit to their taxes the possibilities seem endless. But with all the opportunities that these digital currency alternatives seem to present\, we ask ourselves – how sustainable are cryptocurrencies? \nElon Musk turned this question into a hot topic when Tesla suspended Bitcoin saying: “We are concerned about rapidly increasing use of fossil fuels for Bitcoin mining and transactions\, especially coal\, which has the worst emissions of any fuel. Cryptocurrency is a good idea on many levels and we believe it has a promising future\, but this cannot come at great cost to the environment.” \nCome to this event to discover and discuss: \n\nThe amount of energy being consumed by cryptocurrencies\nWhy some cryptocurrencies are more energy efficient than others\nThe volatility of cryptocurrencies\nIf cryptocurrency can be a lever for a more fair society\nThe ethics of cryptography
URL:https://greenbuzz.global/event/thematic-event-cryptocurrency-sustainability-a-contradiction-in-terms/
LOCATION:WWF Switzerland\, 110 Hohlstrasse\, Zurich\, Switzerland
CATEGORIES:Sustainable Finance & Investing
ATTACH;FMTTYPE=image/jpeg:https://greenbuzz.global/wp-content/uploads/2023/09/0c92b8c77d4d1da08ef044e377b745ca.jpg
END:VEVENT
BEGIN:VEVENT
DTSTART;TZID=Europe/Zurich:20211209T083000
DTEND;TZID=Europe/Zurich:20211209T100000
DTSTAMP:20260420T164529
CREATED:20230922T181441Z
LAST-MODIFIED:20231023T140947Z
UID:10000053-1639038600-1639044000@greenbuzz.global
SUMMARY:Thematic Event: The Social Impact of the Pandemic - A Business Perspective
DESCRIPTION:During the week of Human Rights Day \, we invite you to join us for an important online discussion. \nThe pandemic has shone a light on our impact on the planet and people. In one way or another\, all of us have been affected by this. At this event\, we’ll take a business perspective to the social impact the pandemic has had. Changing forms of work\, inequality and the growing influence of digitalisation are just a few examples of the challenges that companies face. \n\nHow can organisations and corporations successfully adapt to these challenges?\nDo businesses benefit from addressing these issues economically?\n\nAt this thematic event\, we will consider social issues that are relevant to Swiss companies and their supply chains\, for example: \n\nLiving wages\nGender equality\nWhy addressing social inequality is vital to tackle climate change
URL:https://greenbuzz.global/event/thematic-event-the-social-impact-of-the-pandemic-a-business-perspective/
LOCATION:Online
CATEGORIES:Social Sustainability
ATTACH;FMTTYPE=image/jpeg:https://greenbuzz.global/wp-content/uploads/2023/09/2c3d748d986a017bcdc6afeed2c132c7-1.jpg
END:VEVENT
END:VCALENDAR