BEGIN:VCALENDAR
VERSION:2.0
PRODID:-//GreenBuzz - ECPv6.15.20//NONSGML v1.0//EN
CALSCALE:GREGORIAN
METHOD:PUBLISH
X-WR-CALNAME:GreenBuzz
X-ORIGINAL-URL:https://greenbuzz.global
X-WR-CALDESC:Events for GreenBuzz
REFRESH-INTERVAL;VALUE=DURATION:PT1H
X-Robots-Tag:noindex
X-PUBLISHED-TTL:PT1H
BEGIN:VTIMEZONE
TZID:Europe/Zurich
BEGIN:DAYLIGHT
TZOFFSETFROM:+0100
TZOFFSETTO:+0200
TZNAME:CEST
DTSTART:20230326T010000
END:DAYLIGHT
BEGIN:STANDARD
TZOFFSETFROM:+0200
TZOFFSETTO:+0100
TZNAME:CET
DTSTART:20231029T010000
END:STANDARD
BEGIN:DAYLIGHT
TZOFFSETFROM:+0100
TZOFFSETTO:+0200
TZNAME:CEST
DTSTART:20240331T010000
END:DAYLIGHT
BEGIN:STANDARD
TZOFFSETFROM:+0200
TZOFFSETTO:+0100
TZNAME:CET
DTSTART:20241027T010000
END:STANDARD
BEGIN:DAYLIGHT
TZOFFSETFROM:+0100
TZOFFSETTO:+0200
TZNAME:CEST
DTSTART:20250330T010000
END:DAYLIGHT
BEGIN:STANDARD
TZOFFSETFROM:+0200
TZOFFSETTO:+0100
TZNAME:CET
DTSTART:20251026T010000
END:STANDARD
END:VTIMEZONE
BEGIN:VEVENT
DTSTART;TZID=Europe/Zurich:20240228T180000
DTEND;TZID=Europe/Zurich:20240228T213000
DTSTAMP:20260421T182224
CREATED:20231011T080702Z
LAST-MODIFIED:20240227T092716Z
UID:10000066-1709143200-1709155800@greenbuzz.global
SUMMARY:Networking Event: Careers in Sustainability
DESCRIPTION:If the event is sold out\, please add your name to the waiting list here.\n\n								\n				\n					\n				\n		\n					\n				\n				\n									Are you driven by a desire to create a positive impact through your work\, looking for inspiration from the sustainability journeys of others\, or just curious about the opportunities in this field? The demand for sustainability professionals has reached an all-time high\, driven by a global push for companies and institutions to fulfill their commitments to reduce emissions and embrace sustainability. These commitments require concrete action plans\, and they can’t be achieved in isolation. Join us at our upcoming networking event\, where you’ll have the opportunity to connect with like-minded individuals who have moved in their careers to make a meaningful impact. You’ll have the opportunity to hear their stories\, exchange ideas\, and seek valuable guidance from these professionals. Our breakout session moderators include: Agathe Dreyer\, Senior Consultant Finance & Sustainability at LHHGaudenz Biveroni\, Senior HR Manager at Blue Earth Capital AGPawel Karbowski\, Head of HR at ecoinventVanessa Mueller\, Managing Director at ClimatePartnerAndrew Douglas\, Institutional Programs Manager at CSPMarco Clemente\, Professor of Sustainability and Management at ZHAWDaria Dellenbach\, Project Manager at ecoinventSabine Pebrier\, Strategic Project Manager at ecoinventTogether\, we will tackle questions\, such as: – What is important to consider when applying for a job in sustainability? – What does a career in sustainability involve? – What diverse opportunities exist in this field? Please note this is not a job fair with roles being advertised\, but an important networking opportunity and a chance to be motivated by others. Ready to take that first step towards a career with purpose? Mark your calendars for February 28th! 								\n				\n					\n				\n		\n					\n				\n				\n							\n			\n						\n		\n						\n				\n				\n				\n									Programme: 18:00 – 18:30 Registration 18:30 – 18:45 Welcome by GreenBuzz and ecoinvent 18:45 – 19:15 Breakout rooms – Chance to discuss with HR\, recruitment and educational specialists 19:15 – 19:30 Break 19:30 – 20:00 Breakout rooms – Chance to discuss careers in Finance\, Data\, communication or consultancy 20:00 – 21:30 Apero & Buzzing  
URL:https://greenbuzz.global/event/careers-in-sustainability/
LOCATION:WWF Switzerland\, 110 Hohlstrasse\, Zurich\, Switzerland
CATEGORIES:Careers in Sustainability
ATTACH;FMTTYPE=image/png:https://greenbuzz.global/wp-content/uploads/2023/10/11.png
END:VEVENT
END:VCALENDAR